BEGIN:VCALENDAR
VERSION:2.0
PRODID:-//West Boggs Park - ECPv6.15.13.1//NONSGML v1.0//EN
CALSCALE:GREGORIAN
METHOD:PUBLISH
X-WR-CALNAME:West Boggs Park
X-ORIGINAL-URL:https://westboggs.com
X-WR-CALDESC:Events for West Boggs Park
REFRESH-INTERVAL;VALUE=DURATION:PT1H
X-Robots-Tag:noindex
X-PUBLISHED-TTL:PT1H
BEGIN:VTIMEZONE
TZID:America/Indiana/Indianapolis
BEGIN:DAYLIGHT
TZOFFSETFROM:-0500
TZOFFSETTO:-0400
TZNAME:EDT
DTSTART:20240310T070000
END:DAYLIGHT
BEGIN:STANDARD
TZOFFSETFROM:-0400
TZOFFSETTO:-0500
TZNAME:EST
DTSTART:20241103T060000
END:STANDARD
BEGIN:DAYLIGHT
TZOFFSETFROM:-0500
TZOFFSETTO:-0400
TZNAME:EDT
DTSTART:20250309T070000
END:DAYLIGHT
BEGIN:STANDARD
TZOFFSETFROM:-0400
TZOFFSETTO:-0500
TZNAME:EST
DTSTART:20251102T060000
END:STANDARD
BEGIN:DAYLIGHT
TZOFFSETFROM:-0500
TZOFFSETTO:-0400
TZNAME:EDT
DTSTART:20260308T070000
END:DAYLIGHT
BEGIN:STANDARD
TZOFFSETFROM:-0400
TZOFFSETTO:-0500
TZNAME:EST
DTSTART:20261101T060000
END:STANDARD
BEGIN:DAYLIGHT
TZOFFSETFROM:-0500
TZOFFSETTO:-0400
TZNAME:EDT
DTSTART:20270314T070000
END:DAYLIGHT
BEGIN:STANDARD
TZOFFSETFROM:-0400
TZOFFSETTO:-0500
TZNAME:EST
DTSTART:20271107T060000
END:STANDARD
END:VTIMEZONE
BEGIN:VEVENT
DTSTART;TZID=America/Indiana/Indianapolis:20260328T130000
DTEND;TZID=America/Indiana/Indianapolis:20260328T130000
DTSTAMP:20260421T202434
CREATED:20260108T172536Z
LAST-MODIFIED:20260109T144842Z
UID:14222-1774702800-1774702800@westboggs.com
SUMMARY:Easter at West Boggs Park!
DESCRIPTION:Easter at West Boggs Park!\nJoin us Saturday\, March 28th\, at 1pm for a FREE community celebration featuring Easter egg hunts for kids ages 0–13 (divided by age groups). Bring the whole family and enjoy a joyful spring afternoon at the park!
URL:https://westboggs.com/event/easter-at-west-boggs-park/
LOCATION:West Boggs Park\, 16117 US-231\, Loogootee\, IN\, 47553\, United States
ATTACH;FMTTYPE=image/png:https://westboggs.com/wp-content/uploads/2026/01/EasterMarch28-e1767893107865.png
END:VEVENT
BEGIN:VEVENT
DTSTART;TZID=America/Indiana/Indianapolis:20251025T110000
DTEND;TZID=America/Indiana/Indianapolis:20251025T230000
DTSTAMP:20260421T202434
CREATED:20250407T185302Z
LAST-MODIFIED:20250407T192238Z
UID:13793-1761390000-1761433200@westboggs.com
SUMMARY:Halloween Spooktacular - Night 2
DESCRIPTION:🎃 Halloween Spooktacular at West Boggs Park📅 Saturdays\, October 18 & October 25\, 2025📍 West Boggs Park \nDouble the thrills\, double the chills! 👻West Boggs Park invites you to two nights of frightful fun during our annual Halloween Spooktacular! \nWith back-to-back Saturdays of spooky activities\, costumes\, and family-friendly haunts\, this celebration promises something for ghosts and ghouls of all ages. \n🕸️ Trick-or-Treating through the campground🎃 Costume contests👻 Haunted trails and creepy surprises🍬 Sweet treats & eerie entertainment \nGrab your costumes\, bring your bravest friends\, and join us for two nights of Halloween magic at the park!
URL:https://westboggs.com/event/halloween-spooktacular-night-2/
LOCATION:West Boggs Park\, 16117 US-231\, Loogootee\, IN\, 47553\, United States
ATTACH;FMTTYPE=image/png:https://westboggs.com/wp-content/uploads/2025/04/Halloween-e1744053751536.png
END:VEVENT
BEGIN:VEVENT
DTSTART;TZID=America/Indiana/Indianapolis:20251018T110000
DTEND;TZID=America/Indiana/Indianapolis:20251018T230000
DTSTAMP:20260421T202434
CREATED:20250407T185114Z
LAST-MODIFIED:20250407T185114Z
UID:13790-1760785200-1760828400@westboggs.com
SUMMARY:Halloween Spooktacular - Night 1
DESCRIPTION:🎃 Halloween Spooktacular at West Boggs Park📅 Saturdays\, October 18 & October 25\, 2025📍 West Boggs Park \nDouble the thrills\, double the chills! 👻West Boggs Park invites you to two nights of frightful fun during our annual Halloween Spooktacular! \nWith back-to-back Saturdays of spooky activities\, costumes\, and family-friendly haunts\, this celebration promises something for ghosts and ghouls of all ages. \n🕸️ Trick-or-Treating through the campground🎃 Costume contests👻 Haunted trails and creepy surprises🍬 Sweet treats & eerie entertainment \nGrab your costumes\, bring your bravest friends\, and join us for two nights of Halloween magic at the park!
URL:https://westboggs.com/event/halloween-spooktacular-night-1/
LOCATION:West Boggs Park\, 16117 US-231\, Loogootee\, IN\, 47553\, United States
ATTACH;FMTTYPE=image/png:https://westboggs.com/wp-content/uploads/2025/04/Halloween-e1744053751536.png
END:VEVENT
BEGIN:VEVENT
DTSTART;TZID=America/Indiana/Indianapolis:20251004T180000
DTEND;TZID=America/Indiana/Indianapolis:20251004T220000
DTSTAMP:20260421T202434
CREATED:20250713T210759Z
LAST-MODIFIED:20250723T214502Z
UID:14100-1759600800-1759615200@westboggs.com
SUMMARY:The Old N Gold Band
DESCRIPTION:🎸 The Old N Gold Band Live at West Boggs Park📅 Saturday\, October 4th\, 2025 | 🕕 6:00 PM – 10:00 PM📍 West Boggs Lakeside Stage \nGet ready to rock the lakeside! West Boggs Park presents a night of live local music featuring high-energy performance by The Old N Gold Band. From classic hits to dance-worthy jams\, this is your chance to celebrate the beginning of Fall with great tunes\, good vibes\, and local flavor. \n🎶 Live Music🎟️ Free with Park Admission \nGrab your lawn chairs\, bring your friends\, and don’t miss this lakeside party under the stars!
URL:https://westboggs.com/event/the-old-n-gold-band/
LOCATION:West Boggs Park\, 16117 US-231\, Loogootee\, IN\, 47553\, United States
ATTACH;FMTTYPE=image/png:https://westboggs.com/wp-content/uploads/2025/07/Untitled-e1753307054513.png
END:VEVENT
BEGIN:VEVENT
DTSTART;VALUE=DATE:20250920
DTEND;VALUE=DATE:20250921
DTSTAMP:20260421T202434
CREATED:20250407T184309Z
LAST-MODIFIED:20250407T192346Z
UID:13787-1758326400-1758412799@westboggs.com
SUMMARY:Vintage Camper Rally – Boggs Bash
DESCRIPTION:🍂 Fall Festivities: Vintage Camper Rally – Boggs Bash📅 Saturday\, September 20\, 2025📍 West Boggs Park \nStep into a world of nostalgia and community fun at Boggs Bash — a fall celebration like no other! West Boggs Park is bringing together over 30 vintage campers for a one-of-a-kind rally that’s bursting with charm\, creativity\, and classic vibes. \n🛻 Explore beautifully restored vintage campers🛍️ Stroll through the community yard sale🎉 Enjoy fall-themed fun and activities for the whole family \nWhether you’re a vintage camper enthusiast\, a bargain hunter\, or just love a good time at the park\, this is one event you won’t want to miss. \nCelebrate the season\, connect with neighbors\, and kick off fall the West Boggs way!
URL:https://westboggs.com/event/vintage-camper-rally-boggs-bash/
LOCATION:West Boggs Park\, 16117 US-231\, Loogootee\, IN\, 47553\, United States
ATTACH;FMTTYPE=image/png:https://westboggs.com/wp-content/uploads/2025/04/Vintage-Camper-Rally-–-Boggs-Bash-e1744053821778.png
END:VEVENT
BEGIN:VEVENT
DTSTART;TZID=America/Indiana/Indianapolis:20250906T180000
DTEND;TZID=America/Indiana/Indianapolis:20250906T220000
DTSTAMP:20260421T202434
CREATED:20250723T215017Z
LAST-MODIFIED:20250723T215017Z
UID:14149-1757181600-1757196000@westboggs.com
SUMMARY:Last Call Band Live at West Boggs Park
DESCRIPTION:🎸 The Last Call Band Live at West Boggs Park📅 Saturday\, September 6th\, 2025 | 🕕 6:00 PM – 10:00 PM📍 West Boggs Lakeside Stage \nGet ready to rock the lakeside! West Boggs Park presents a night of live local music featuring high-energy performance by The Old N Gold Band. From classic hits to dance-worthy jams\, this is your chance to celebrate the end of Summer with great tunes\, good vibes\, and local flavor. \n🎶 Live Music\nFood Trucks\n🎟️ Free with Park Admission \nGrab your lawn chairs\, bring your friends\, and don’t miss this lakeside party under the stars!
URL:https://westboggs.com/event/last-call-band/
LOCATION:West Boggs Park\, 16117 US-231\, Loogootee\, IN\, 47553\, United States
ATTACH;FMTTYPE=image/png:https://westboggs.com/wp-content/uploads/2025/07/Last-Call-Flyer-5-x-7-in-fixed-e1753307402876.png
END:VEVENT
BEGIN:VEVENT
DTSTART;TZID=America/Indiana/Indianapolis:20250830T130000
DTEND;TZID=America/Indiana/Indianapolis:20250830T230000
DTSTAMP:20260421T202434
CREATED:20250407T183555Z
LAST-MODIFIED:20250713T212308Z
UID:13784-1756558800-1756594800@westboggs.com
SUMMARY:Labor Day Celebration
DESCRIPTION:🎉 Labor Day Weekend Celebration at West Boggs Park📅 August 30🕐 Festivities begin daily at 1:00 PM📍 West Boggs Park \nBid farewell to summer in style! ☀️Join us at West Boggs Park for Labor Day Weekend Celebration filled with music\, games\, sunshine\, and good times for all ages. \nWhether you’re looking to relax by the water\, dance to live music\, or join in on classic games and activities\, there’s something for everyone at the park. \n🎶 DJ Dance Party with Vocal Vibes Entertainment🎯 Games & Competitions👨‍👩‍👧‍👦 Family-Friendly Activities🌞 End-of-summer vibes \nPack a picnic\, bring your crew\, and celebrate the season’s last big hurrah at West Boggs Park!
URL:https://westboggs.com/event/labor-day-celebration/
LOCATION:West Boggs Park\, 16117 US-231\, Loogootee\, IN\, 47553\, United States
ATTACH;FMTTYPE=image/png:https://westboggs.com/wp-content/uploads/2025/04/Labor-Day-August-30-at-West-Boggs.png
END:VEVENT
BEGIN:VEVENT
DTSTART;TZID=America/Indiana/Indianapolis:20250816T190000
DTEND;TZID=America/Indiana/Indianapolis:20250816T220000
DTSTAMP:20260421T202434
CREATED:20250713T210404Z
LAST-MODIFIED:20250713T210432Z
UID:14097-1755370800-1755381600@westboggs.com
SUMMARY:Jake McVey Live at West Boogs Park
DESCRIPTION:🎶 Jake McVey Live at West Boggs Park📅 Friday\, August 16\, 2025 | 🕖 7:00 – 10:00 PM📍 West Boggs Park – 16117 US-231\, Loogootee\, IN \nJoin us at West Boggs Park for a summer evening of high-energy country music featuring Jake McVey—an artist known for his electrifying performances and genuine connection with fans. \nBring your lawn chairs\, gather your friends\, and get ready for a great night under the stars! Whether you’re a longtime fan or just discovering his sound\, Jake McVey’s live show is sure to leave a lasting impression. \nAdmission is free with park entry. Don’t miss out on one of the biggest live music nights of the season at West Boggs!
URL:https://westboggs.com/event/jake-mcvey-live-at-west-boogs-park/
LOCATION:West Boggs Park\, 16117 US-231\, Loogootee\, IN\, 47553\, United States
ATTACH;FMTTYPE=image/png:https://westboggs.com/wp-content/uploads/2025/07/thumbnail_Jake-McveyConcert-Event-Flyer-3.png
END:VEVENT
BEGIN:VEVENT
DTSTART;TZID=America/Indiana/Indianapolis:20250809T110000
DTEND;TZID=America/Indiana/Indianapolis:20250809T230000
DTSTAMP:20260421T202434
CREATED:20250407T183003Z
LAST-MODIFIED:20250407T192444Z
UID:13781-1754737200-1754780400@westboggs.com
SUMMARY:Hillbilly Heydays
DESCRIPTION:🧢 Hillbilly Heydays at West Boggs Park📅 Saturday\, August 9\, 2025🕚 Starts at 11:00 AM📍 West Boggs Park – Loogootee\, Indiana \nGrab your grubbiest clothes\, dust off them boots\, and get ready to dive headfirst into the wildest\, muddiest bash of the summer — it’s Hillbilly Heydays at West Boggs Park! \nThis rowdy\, family-friendly tradition is all about mud\, mayhem\, and memory-making. Whether you’re splashing through the muck or cheering from the sidelines\, there’s something for everyone at this good ol’ fashioned country showdown. \n💥 Featured Mud-Soaked Mayhem Includes: \n\n\nMud Obstacle Course (get ready to slide\, crawl\, and splash!) \n\n\nWheelbarrow Races (yep — in the mud!) \n\n\nGolf Cart Races (hillbilly horsepower at its finest) \n\n\nTug-O-War (brace yourself — it’s a muddy battle) \n\n\nMud Volleyball Tournament (spike it\, slip it\, send it flying!) \n\n\n🎶 As the mud settles\, Cody Ikerd and the Sidewinders take the stage with high energy country music that’s tailor-made for original music fans and audiences that love 80’s/90’s country music hits.  Whether you’re looking to do some boot scootin’ or slow dancing\, Cody Ikerd and the Sidewinders are here to bring the country and a boot-stompin’ close to a legendary day in the dirt. \n👢 So pack your lawn chairs\, bring your rowdiest crew\, and prepare to embrace the mess.This is one muddy tradition you don’t want to miss!
URL:https://westboggs.com/event/hillbilly-heydays/
LOCATION:West Boggs Park\, 16117 US-231\, Loogootee\, IN\, 47553\, United States
ATTACH;FMTTYPE=image/png:https://westboggs.com/wp-content/uploads/2025/04/Hillbilly-Heydays-e1744053878745.png
END:VEVENT
BEGIN:VEVENT
DTSTART;TZID=America/Indiana/Indianapolis:20250719T110000
DTEND;TZID=America/Indiana/Indianapolis:20250719T230000
DTSTAMP:20260421T202434
CREATED:20250407T180830Z
LAST-MODIFIED:20250713T205812Z
UID:13778-1752922800-1752966000@westboggs.com
SUMMARY:West Boggs Park Annual Luau Beach Party
DESCRIPTION:🌺 LUAU PARTY at West Boggs ParkSaturday\, July 19 • All Day Fun \nJoin us for a full day of tropical fun at the West Boggs Park Luau Party—featuring activities for all ages\, delicious food\, live music\, and authentic island entertainment! \n🧒 At the Activity Center:\n\n\nKids Crafts – 11:00 AM–2:00 PM \n\n\nTie-Dye Station – 2:00–4:00 PM(Bring your own shirt or purchase one for $5—while supplies last!) \n\n\nPressed Flower Class – 4:00–5:30 PM(Limited spots\, $15 per person) \n\n\n🏖️ At the Beach:\n\n\nBeach Volleyball Tournament – 5:00–7:00 PM(Sign up Friday or Saturday at the Activities Center) \n\n\nLive Music by Rich Hardesty \n\n\n5:30 PM – Solo Acoustic Set \n\n\n8:30 PM – Full Band \n\n\n\n\nLimbo Contest – 8:30 PM \n\n\nAuthentic Polynesian Dance Performance – 7:00 PM \n\n\nFire Dancing by The Hudsucker Posse – 10:00 PM \n\n\nCampsite Decorating Contest \n\n\nFood Trucks\, Beer & Wine Available \n\n\nBonfire at Dusk \n\n\n🌴 Whether you’re here for the beach vibes\, cultural performances\, or just a great time with family and friends—this Luau Party is your summer highlight! \nSpecial thanks to our sponsors: \n         
URL:https://westboggs.com/event/west-boggs-park-annual-luau-beach-party/
LOCATION:West Boggs Park\, 16117 US-231\, Loogootee\, IN\, 47553\, United States
ATTACH;FMTTYPE=image/png:https://westboggs.com/wp-content/uploads/2025/04/Luau-Flyer-July-19.png
END:VEVENT
BEGIN:VEVENT
DTSTART;TZID=America/Indiana/Indianapolis:20250703T130000
DTEND;TZID=America/Indiana/Indianapolis:20250703T230000
DTSTAMP:20260421T202434
CREATED:20250407T175549Z
LAST-MODIFIED:20250625T164427Z
UID:13775-1751547600-1751583600@westboggs.com
SUMMARY:Fireworks Spectacular
DESCRIPTION:🎆 3rd of July Celebration at West Boggs Park📅 Thursday\, July 3\, 2025🕘 Activities begin at 1:00 PM | Fireworks at dark | Ends by 11:00 PM📍 West Boggs Park – Lakeside Viewing Available \nJoin us for an unforgettable FREE and ALL AGES celebration of summer and independence at West Boggs Park! 🎉 \nEnjoy a full day of family fun featuring:• 🎧 Vocal Vibes Entertainment DJ from 1–6 PM• 🎶 Live Music from 6–9:30 PM with Charlie Morgan and Friends & Revolver• 🍔 Food Trucks• 🎨 Face Painting• 🍺 Beer and Wine• 🎪 Craft Vendors• 🏰 Bounce Houses• 🎇 Fireworks Show over the lake at dark \n💵 Please note: a standard $7 gate fee per vehicle is required for park entry. \nArrive early to enjoy the park\, take part in fun activities\, and grab the perfect spot along the shoreline. As night falls\, watch the sky light up in dazzling colors for a show you won’t want to miss. \n🇺🇸 Bring your blankets\, lawn chairs\, and your favorite people for an evening of outdoor fun\, community spirit\, and sparkling skies. we’ll see you there!🇺🇸
URL:https://westboggs.com/event/fireworks-spectacular/
LOCATION:West Boggs Park\, 16117 US-231\, Loogootee\, IN\, 47553\, United States
ATTACH;FMTTYPE=image/png:https://westboggs.com/wp-content/uploads/2025/04/3rd-of-July-at-West-Boggs.png
END:VEVENT
BEGIN:VEVENT
DTSTART;TZID=America/Indiana/Indianapolis:20250627T180000
DTEND;TZID=America/Indiana/Indianapolis:20250627T220000
DTSTAMP:20260421T202434
CREATED:20250508T230409Z
LAST-MODIFIED:20250625T163035Z
UID:13953-1751047200-1751061600@westboggs.com
SUMMARY:Bluegrass at the Lake
DESCRIPTION:Join us at West Boggs Park on Thursday\, June 27\, for a special night of live music featuring two standout acts in the Americana and Bluegrass scene — Mama Said String Band and The Hammer and The Hatchet.\n \nThis show is FREE and ALL AGES — just pay the standard $7 gate fee per vehicle to enter the park!\nCome experience some great music on our brand-new stage\, with food trucks\, local beer from St. Benedict’s Brewery\, and wine from Hymn & Herd Winery on-site. Make it a full getaway and reserve one of our remaining camping spots today!\n \n\nMama Said String Band\, based in Louisville\, Kentucky\, has been making waves since their debut in 2016. This four-piece group blends Bluegrass\, Folk\, and Americana with stunning vocal harmonies and contemporary instrumentation. With members David O’Neal\, Katie “Didit” Caudill\, Kaitlen Farmer\, and Kris Potts\, they bring a diverse range of backgrounds and styles that have earned them accolades like “Bluegrass Artist of the Year” and a devoted national following.\n\nThe Hammer and The Hatchet\, the beloved South Central Indiana duo made up of John Bowyer and Jayme Hood. Born and raised Hoosiers\, they live on the Brown/Monroe county line and have spent the last decade crafting honest\, heartfelt Midwestern Roots Music. With four original albums under their belt\, they are known for their rich songwriting\, tight harmonies\, and strong musical partnership.
URL:https://westboggs.com/event/bluegrass-at-the-lake/
LOCATION:West Boggs Park\, 16117 US-231\, Loogootee\, IN\, 47553\, United States
ATTACH;FMTTYPE=image/png:https://westboggs.com/wp-content/uploads/2025/04/Bluegrass-Flier.png
END:VEVENT
BEGIN:VEVENT
DTSTART;TZID=America/Indiana/Indianapolis:20250614T110000
DTEND;TZID=America/Indiana/Indianapolis:20250614T160000
DTSTAMP:20260421T202434
CREATED:20250407T174058Z
LAST-MODIFIED:20250407T175918Z
UID:13772-1749898800-1749916800@westboggs.com
SUMMARY:Father’s Day Celebration
DESCRIPTION:👔 Father’s Day Celebration at West Boggs Park📅 Saturday\, June 14\, 2025📍 West Boggs Park \nJoin us for a day dedicated to the awesome dads out there! West Boggs Park is hosting a Father’s Day Celebration filled with outdoor fun and family-friendly activities to honor the incredible fathers\, grandfathers\, and father figures in our lives. \nWhether it’s tossing a ball\, playing yard games\, or simply enjoying quality time in the great outdoors\, this is the perfect way to say thank you to the men who mean so much. \nBring the whole crew\, pack a picnic\, and celebrate the dads who make life great! \n👨‍👧‍👦 Fun\, laughter\, and memories await!
URL:https://westboggs.com/event/fathers-day-celebration/
LOCATION:West Boggs Park\, 16117 US-231\, Loogootee\, IN\, 47553\, United States
ATTACH;FMTTYPE=image/png:https://westboggs.com/wp-content/uploads/2025/04/Fathers-Day-e1744053984605.png
END:VEVENT
BEGIN:VEVENT
DTSTART;TZID=America/Indiana/Indianapolis:20250607T083000
DTEND;TZID=America/Indiana/Indianapolis:20250607T083000
DTSTAMP:20260421T202434
CREATED:20250407T171946Z
LAST-MODIFIED:20250411T155224Z
UID:13768-1749285000-1749285000@westboggs.com
SUMMARY:Kids Fishing Derby & Car Show
DESCRIPTION:🎣 Kids Fishing Derby & 🚗 Car Show at West Boggs Park📅 Saturday\, June 7\, 2025📍 West Boggs Park \nStart your Saturday off with the Kids Fishing Derby at 8:30 AM — a beloved tradition where young anglers cast their lines and compete for fun prizes across all age groups! Whether it’s for the biggest catch or the most enthusiasm\, there’s something for every kid to be proud of. \nThen stick around to enjoy the Car Show\, where classic\, custom\, and vintage vehicles will be on display for all to admire. It’s a full day of family-friendly fun\, nature\, and nostalgia at the park. \n🏆 Fishing prizes | 🐟 Lake fun | 🚘 Show cars | ☀️ Good vibes \nBring the whole family for a day packed with excitement at West Boggs Park!
URL:https://westboggs.com/event/kids-fishing-derby/
LOCATION:West Boggs Park\, 16117 US-231\, Loogootee\, IN\, 47553\, United States
ATTACH;FMTTYPE=image/png:https://westboggs.com/wp-content/uploads/2025/04/Kids-Fishing-Derby-and-Car-Show-e1744386738587.png
END:VEVENT
BEGIN:VEVENT
DTSTART;TZID=America/Indiana/Indianapolis:20250524T180000
DTEND;TZID=America/Indiana/Indianapolis:20250526T220000
DTSTAMP:20260421T202434
CREATED:20250407T170521Z
LAST-MODIFIED:20250411T182212Z
UID:13765-1748109600-1748296800@westboggs.com
SUMMARY:Memorial Day Weekend DJ Party
DESCRIPTION:🇺🇸 Memorial Day DJ Party at West Boggs Park 🇺🇸 📅 Saturday\, May 24\, 2025 | 🕕 6:00–10:00 PM📍 West Boggs Park \nKick off Memorial Day weekend with a DJ dance party under the stars brought to you by Vocal Vibes Entertainment! \nBring your friends\, lawn chairs\, and good vibes for a night of music\, lights\, and lakeside fun. Whether you’re camping for the weekend or just coming out for the night\, this is the perfect way to start your summer. \nCampground open all weekend.DJ Dance Party on Saturday night.\n🇺🇸 Let’s make it a Memorial Day to remember at West Boggs Park! 🇺🇸!
URL:https://westboggs.com/event/memorial-day-weekend-celebration/
LOCATION:West Boggs Park\, 16117 US-231\, Loogootee\, IN\, 47553\, United States
ATTACH;FMTTYPE=image/png:https://westboggs.com/wp-content/uploads/2025/04/Memorial-Day-with-Vocal-Vibes-e1744397218521.png
END:VEVENT
BEGIN:VEVENT
DTSTART;TZID=America/Indiana/Indianapolis:20250510T080000
DTEND;TZID=America/Indiana/Indianapolis:20250510T080000
DTSTAMP:20260421T202434
CREATED:20250407T165023Z
LAST-MODIFIED:20250407T165619Z
UID:13761-1746864000-1746864000@westboggs.com
SUMMARY:Mother’s Day Breakfast
DESCRIPTION:🌷 Mother’s Day Breakfast at West Boggs Park 🌷📅 Saturday\, May 10\, 2025📍 Cedarwood Shelter House \nJoin us at West Boggs Park for a heartfelt celebration honoring the incredible mothers in our lives! Set in the peaceful beauty of the Cedarwood shelter house\, this special Mother’s Day Breakfast offers the perfect opportunity to gather with family and show your appreciation. \nEnjoy a delightful morning meal surrounded by nature\, laughter\, and love. Whether you’re treating your own mom\, a mother figure\, or simply coming to enjoy the community spirit\, everyone is welcome. \n☕ Breakfast is donation-based – give what you can\, and help us continue offering memorable community events. \nBring the whole family\, share a meal\, and create cherished memories in one of the park’s most scenic spots. \nNo registration required. Just come hungry and ready to celebrate!
URL:https://westboggs.com/event/mothers-day-breakfast/
LOCATION:West Boggs Park\, 16117 US-231\, Loogootee\, IN\, 47553\, United States
ATTACH;FMTTYPE=image/png:https://westboggs.com/wp-content/uploads/2025/04/Mothers-Day-1-e1744054040616.png
END:VEVENT
BEGIN:VEVENT
DTSTART;TZID=America/Indiana/Indianapolis:20250502T190000
DTEND;TZID=America/Indiana/Indianapolis:20250503T220000
DTSTAMP:20260421T202434
CREATED:20250407T162339Z
LAST-MODIFIED:20250407T172417Z
UID:13752-1746212400-1746309600@westboggs.com
SUMMARY:Battle of the Bands
DESCRIPTION:Battle of the Bands at West Boggs Park! \n Dates: May 2 & 3\, 2025\n Time: Event Friday May 2nd\, 7pm – 10:30pm\n Time: Event Saturday May 3rd 1:00pm – 10:00pm\n Location: West Boggs Park\nGet ready for an epic showdown of musical talent at the Battle of the Bands!\n From rock to country\, indie to metal\, the best local and regional bands will battle it out for ultimate bragging rights and big prizes!\n 2 Nights of Live Music\n Judged Performances & Fan Voting\n Food Trucks & Refreshments\n All ages welcome! Bring your friends\, grab a seat\, and rock out under the stars!\n Admission: Park entry fees will apply along with ticketing\n Sponsors Wanted! Contact West Boggs Park Programs Director to Sign Up 812-295-3421 option 3 or email activities@westboggs.com\n Who will take the crown? Don’t miss the music event of the season!
URL:https://westboggs.com/event/battle-of-the-bands/
LOCATION:West Boggs Park\, 16117 US-231\, Loogootee\, IN\, 47553\, United States
ATTACH;FMTTYPE=image/jpeg:https://westboggs.com/wp-content/uploads/2025/04/Battle-of-the-Bands-e1744054055142.jpg
END:VEVENT
BEGIN:VEVENT
DTSTART;TZID=America/Indiana/Indianapolis:20250426T110000
DTEND;TZID=America/Indiana/Indianapolis:20250426T160000
DTSTAMP:20260421T202434
CREATED:20250407T162625Z
LAST-MODIFIED:20250407T172400Z
UID:13754-1745665200-1745683200@westboggs.com
SUMMARY:Spring Festival
DESCRIPTION:🎉 Spring Festival at West Boggs Park! 🎏\n🌤️ Date: April 26\, 2025\n⏰ Time: Starting at 11 AM\n📍 Location: West Boggs Park\nGet ready for a sky full of color and fun at the Kite Festival! Whether you’re a seasoned kite flyer or just looking for a fun day out with the family\, this event is for everyone.\n✨ What to Expect:\n🪁 Kite Flying for All Ages\n🎶 Live Music & Entertainment with Kirby Stailey 11am-2pm\n🍔 Delicious Food Vendors\n🎨 Kids’ Activities & Crafts\nBring your own kite or grab one at the event! Let’s fill the sky with color and joy!\n🔹 Admission: Park entry fee $7.00 per vehicle\n🔹 More Info: Contact West Boggs Park for details activities@westboggs.com or call 812-295-3421 option 3\nMark your calendar and let’s go fly a kite! 🌈🪁\n#KiteFestival #WestBoggsPark #FamilyFun #FlyHigh
URL:https://westboggs.com/event/spring-festival/
LOCATION:West Boggs Park\, 16117 US-231\, Loogootee\, IN\, 47553\, United States
ATTACH;FMTTYPE=image/jpeg:https://westboggs.com/wp-content/uploads/2025/04/Hello-Spring-Fest-e1744054074302.jpg
END:VEVENT
BEGIN:VEVENT
DTSTART;TZID=America/Indiana/Indianapolis:20250419T130000
DTEND;TZID=America/Indiana/Indianapolis:20250419T130000
DTSTAMP:20260421T202434
CREATED:20250407T162821Z
LAST-MODIFIED:20250415T162629Z
UID:13756-1745067600-1745067600@westboggs.com
SUMMARY:Easter Egg Hunt
DESCRIPTION: Egg-citing Easter Egg Hunt at West Boggs Park!\n\n\nDate: Saturday\, April 19\, 2025\nTime: 1:00 PM\nLocation: West Boggs Park\n Hop on Over for a Fun-Filled Easter Celebration!\nWhat’s in Store?\nThousands of Easter Eggs hidden across the park!\nExciting Prizes for lucky egg finders! \nFamily-Friendly Fun activities! Gather your baskets and bring the whole family for an afternoon of springtime joy!\nAdmission: Event is free with park entry. Open to kids of all ages!\nFor more details\, visit West Boggs Park Website or call 812-295-3421 option 3\nDon’t miss this Egg-citing event – see you there!
URL:https://westboggs.com/event/easter-egg-hunt/
LOCATION:West Boggs Park\, 16117 US-231\, Loogootee\, IN\, 47553\, United States
ATTACH;FMTTYPE=image/jpeg:https://westboggs.com/wp-content/uploads/2025/04/Easter-Egg-Hunt-e1744054092359.jpg
END:VEVENT
END:VCALENDAR