BEGIN:VCALENDAR
VERSION:2.0
PRODID:-//West Boggs Park - ECPv6.15.13.1//NONSGML v1.0//EN
CALSCALE:GREGORIAN
METHOD:PUBLISH
X-ORIGINAL-URL:https://westboggs.com
X-WR-CALDESC:Events for West Boggs Park
REFRESH-INTERVAL;VALUE=DURATION:PT1H
X-Robots-Tag:noindex
X-PUBLISHED-TTL:PT1H
BEGIN:VTIMEZONE
TZID:America/Indiana/Indianapolis
BEGIN:DAYLIGHT
TZOFFSETFROM:-0500
TZOFFSETTO:-0400
TZNAME:EDT
DTSTART:20250309T070000
END:DAYLIGHT
BEGIN:STANDARD
TZOFFSETFROM:-0400
TZOFFSETTO:-0500
TZNAME:EST
DTSTART:20251102T060000
END:STANDARD
BEGIN:DAYLIGHT
TZOFFSETFROM:-0500
TZOFFSETTO:-0400
TZNAME:EDT
DTSTART:20260308T070000
END:DAYLIGHT
BEGIN:STANDARD
TZOFFSETFROM:-0400
TZOFFSETTO:-0500
TZNAME:EST
DTSTART:20261101T060000
END:STANDARD
BEGIN:DAYLIGHT
TZOFFSETFROM:-0500
TZOFFSETTO:-0400
TZNAME:EDT
DTSTART:20270314T070000
END:DAYLIGHT
BEGIN:STANDARD
TZOFFSETFROM:-0400
TZOFFSETTO:-0500
TZNAME:EST
DTSTART:20271107T060000
END:STANDARD
END:VTIMEZONE
BEGIN:VEVENT
DTSTART;TZID=America/Indiana/Indianapolis:20260425T110000
DTEND;TZID=America/Indiana/Indianapolis:20260425T110000
DTSTAMP:20260421T153045
CREATED:20260108T163321Z
LAST-MODIFIED:20260109T205039Z
UID:14226-1777114800-1777114800@westboggs.com
SUMMARY:Spring Fest & Plant Sale
DESCRIPTION:Spring Fest is blooming at West Boggs Park! \nCelebrate warmer weather with bounce houses\, bubbles\, kites\, kids crafts\, live music\, and educational presentations from the DNR. Shop plants from local greenhouses and browse a possible community yard sale. A perfect day to welcome spring!
URL:https://westboggs.com/event/spring-fest-plant-sale/
LOCATION:West Boggs Park\, 16117 US-231\, Loogootee\, IN\, 47553\, United States
ATTACH;FMTTYPE=image/png:https://westboggs.com/wp-content/uploads/2026/01/2-e1767889923299.png
END:VEVENT
BEGIN:VEVENT
DTSTART;TZID=America/Indiana/Indianapolis:20260502T130000
DTEND;TZID=America/Indiana/Indianapolis:20260502T130000
DTSTAMP:20260421T153045
CREATED:20260108T164025Z
LAST-MODIFIED:20260109T144729Z
UID:14233-1777726800-1777726800@westboggs.com
SUMMARY:Dog Days at the Lake — Bark & Brew!
DESCRIPTION:Dog Days at the Lake — Bark & Brew!\nBring your pup for a tail-wagging good time! Enjoy a dog swim hour at the beach\, dog photo ops\, adoptable pets from a local shelter\, and local breweries on site. A fun event for dog lovers\, families\, and four-legged friends alike!
URL:https://westboggs.com/event/dog-days-at-the-lake-bark-brew/
LOCATION:West Boggs Park\, 16117 US-231\, Loogootee\, IN\, 47553\, United States
ATTACH;FMTTYPE=image/png:https://westboggs.com/wp-content/uploads/2026/01/3-e1767890406882.png
END:VEVENT
BEGIN:VEVENT
DTSTART;TZID=America/Indiana/Indianapolis:20260523T120000
DTEND;TZID=America/Indiana/Indianapolis:20260523T120000
DTSTAMP:20260421T153045
CREATED:20260108T164909Z
LAST-MODIFIED:20260109T144708Z
UID:14236-1779537600-1779537600@westboggs.com
SUMMARY:Memorial Day Weekend Celebration
DESCRIPTION:Memorial Day Weekend at West Boggs Park\nOn Saturday\, May 23rd\, Starting at noon\, join us to honor those who served with our Veterans Memorial Wall\, enjoy family field day games\, a golf cart parade\, kids crafts\, and a Veteran meet-and-greet. Wrap up the day with food trucks and live blues music. The main events will be on Saturday and the park is open all weekend so you can celebrate the long holiday weekend at the lake!
URL:https://westboggs.com/event/memorial-day-weekend-celebration-2026/
LOCATION:West Boggs Park\, 16117 US-231\, Loogootee\, IN\, 47553\, United States
ATTACH;FMTTYPE=image/png:https://westboggs.com/wp-content/uploads/2026/01/4-e1767890913328.png
END:VEVENT
BEGIN:VEVENT
DTSTART;TZID=America/Indiana/Indianapolis:20260606T100000
DTEND;TZID=America/Indiana/Indianapolis:20260606T100000
DTSTAMP:20260421T153045
CREATED:20260108T165437Z
LAST-MODIFIED:20260109T144655Z
UID:14239-1780740000-1780740000@westboggs.com
SUMMARY:Kids Fishing Derby & Car Show
DESCRIPTION:Kids Fishing Derby & Car Show\nThis annual favorite is back! Kids compete in age-group fishing divisions for prizes\, while car enthusiasts enjoy a classic car show nearby. A laid-back\, family-friendly day by the lake for anglers and auto fans alike.
URL:https://westboggs.com/event/kids-fishing-derby-car-show/
LOCATION:West Boggs Park\, 16117 US-231\, Loogootee\, IN\, 47553\, United States
ATTACH;FMTTYPE=image/png:https://westboggs.com/wp-content/uploads/2026/01/5-e1767891261479.png
END:VEVENT
BEGIN:VEVENT
DTSTART;TZID=America/Indiana/Indianapolis:20260703T160000
DTEND;TZID=America/Indiana/Indianapolis:20260703T160000
DTSTAMP:20260421T153045
CREATED:20260108T170032Z
LAST-MODIFIED:20260109T144131Z
UID:14242-1783094400-1783094400@westboggs.com
SUMMARY:July 3 — Fireworks Celebration
DESCRIPTION:Fireworks at West Boggs Park!\nCelebrate Independence Day early with bounce houses\, kids crafts\, live music\, and a spectacular fireworks show over the lake. One of our biggest nights of the year — bring a blanket\, bring the family\, and enjoy the show!
URL:https://westboggs.com/event/july-3-fireworks-celebration/
LOCATION:West Boggs Park\, 16117 US-231\, Loogootee\, IN\, 47553\, United States
ATTACH;FMTTYPE=image/png:https://westboggs.com/wp-content/uploads/2026/01/6-e1767891620127.png
END:VEVENT
BEGIN:VEVENT
DTSTART;TZID=America/Indiana/Indianapolis:20260718T160000
DTEND;TZID=America/Indiana/Indianapolis:20260718T160000
DTSTAMP:20260421T153045
CREATED:20260108T170407Z
LAST-MODIFIED:20260109T144616Z
UID:14245-1784390400-1784390400@westboggs.com
SUMMARY:Luau Party
DESCRIPTION:Luau Party at the Beach!\nGet tropical at West Boggs Park with live music\, beach games\, a volleyball tournament\, hog roast\, and island-style entertainment. Break out your leis and flip-flops — this summer beach party is always a crowd favorite!
URL:https://westboggs.com/event/luau-party/
LOCATION:West Boggs Park\, 16117 US-231\, Loogootee\, IN\, 47553\, United States
ATTACH;FMTTYPE=image/png:https://westboggs.com/wp-content/uploads/2026/01/7-e1767891824274.png
END:VEVENT
BEGIN:VEVENT
DTSTART;TZID=America/Indiana/Indianapolis:20260808T110000
DTEND;TZID=America/Indiana/Indianapolis:20260808T110000
DTSTAMP:20260421T153045
CREATED:20260108T170759Z
LAST-MODIFIED:20260109T144550Z
UID:14248-1786186800-1786186800@westboggs.com
SUMMARY:Hillbilly Heydays
DESCRIPTION:Hillbilly Heydays\nOur muddiest\, rowdiest tradition returns! Enjoy muddy field-day games\, friendly competition\, laughs\, and live music. Don’t wear your good shoes — this is one wild\, unforgettable West Boggs Park classic!
URL:https://westboggs.com/event/hillbilly-heydays-2026/
LOCATION:West Boggs Park\, 16117 US-231\, Loogootee\, IN\, 47553\, United States
ATTACH;FMTTYPE=image/png:https://westboggs.com/wp-content/uploads/2026/01/8-e1767892047800.png
END:VEVENT
BEGIN:VEVENT
DTSTART;VALUE=DATE:20260828
DTEND;VALUE=DATE:20260830
DTSTAMP:20260421T153045
CREATED:20260108T171337Z
LAST-MODIFIED:20260109T144509Z
UID:14251-1787875200-1788047999@westboggs.com
SUMMARY:Kiwanis Club Hot Air Balloon Festival
DESCRIPTION:SCI Kiwanis Club Hot Air Balloon Festival\nA can’t-miss\, two-day festival featuring hot air balloons\, tethered rides\, pony rides\, train rides\, bounce houses\, kids crafts\, live music\, vendors\, and more. Fun for all ages and one of the most colorful weekends of the year!\nThis event is a fundraiser for Kiwanis Club of South Central Indiana. Kiwanis helps children thrive by supporting local schools\, funding scholarships\, providing winter coats and backpacks\, building playgrounds\, and more to give children a safer\, healthier\, and brighter future.\nAdvance tickets are available at the West Boggs Camplife Store.
URL:https://westboggs.com/event/kiwanis-club-hot-air-balloon-festival/
LOCATION:West Boggs Park\, 16117 US-231\, Loogootee\, IN\, 47553\, United States
ATTACH;FMTTYPE=image/png:https://westboggs.com/wp-content/uploads/2026/01/12-e1767892378358.png
END:VEVENT
BEGIN:VEVENT
DTSTART;TZID=America/Indiana/Indianapolis:20260905T120000
DTEND;TZID=America/Indiana/Indianapolis:20260905T120000
DTSTAMP:20260421T153045
CREATED:20260108T173359Z
LAST-MODIFIED:20260109T144455Z
UID:14256-1788609600-1788609600@westboggs.com
SUMMARY:Labor Day Weekend Celebration
DESCRIPTION:Labor Day Weekend at West Boggs Park\nWrap up summer with live music\, a karaoke contest\, cornhole tournament\, bounce houses\, kids crafts\, and a golf cart parade. The main events will be on Saturday and the park is open all weekend so you can celebrate the long holiday weekend at the lake!
URL:https://westboggs.com/event/labor-day-weekend-celebration/
LOCATION:West Boggs Park\, 16117 US-231\, Loogootee\, IN\, 47553\, United States
ATTACH;FMTTYPE=image/png:https://westboggs.com/wp-content/uploads/2026/01/9-e1767892881544.png
END:VEVENT
BEGIN:VEVENT
DTSTART;TZID=America/Indiana/Indianapolis:20260919T100000
DTEND;TZID=America/Indiana/Indianapolis:20260919T100000
DTSTAMP:20260421T153045
CREATED:20260108T174504Z
LAST-MODIFIED:20260109T144319Z
UID:14261-1789812000-1789812000@westboggs.com
SUMMARY:Boggs Bash Vintage Camper Rally
DESCRIPTION:Boggs Bash Vintage Camper Rally\nEnjoy vintage campers\, a community yard sale\, local vendors\, and live music. A relaxed\, retro-inspired weekend celebrating music\, camping\, and community vibes.
URL:https://westboggs.com/event/boggs-bash-vintage-camper-rally/
LOCATION:West Boggs Park\, 16117 US-231\, Loogootee\, IN\, 47553\, United States
ATTACH;FMTTYPE=image/png:https://westboggs.com/wp-content/uploads/2026/01/10-e1767894245188.png
END:VEVENT
BEGIN:VEVENT
DTSTART;TZID=America/Indiana/Indianapolis:20261017T120000
DTEND;TZID=America/Indiana/Indianapolis:20261017T120000
DTSTAMP:20260421T153045
CREATED:20260108T175010Z
LAST-MODIFIED:20260109T144304Z
UID:14264-1792238400-1792238400@westboggs.com
SUMMARY:Halloween Weekends at West Boggs Park (Oct 17th)
DESCRIPTION:Halloween Weekends at West Boggs Park\nGet spooky with pumpkin carving and painting\, a chili-brew fundraiser\, golf cart parade\, haunted trail\, outdoor movies\, and more. Family-friendly fun with just the right amount of fright — join us all three weekends! **Please note that 10/31 will NOT have the full schedule of activities. More info on this will be given as the events get closer. Thanks!
URL:https://westboggs.com/event/halloween-weekends-at-west-boggs-park-oct-17th/
LOCATION:West Boggs Park\, 16117 US-231\, Loogootee\, IN\, 47553\, United States
ATTACH;FMTTYPE=image/png:https://westboggs.com/wp-content/uploads/2026/01/11-e1767894599617.png
END:VEVENT
BEGIN:VEVENT
DTSTART;TZID=America/Indiana/Indianapolis:20261024T120000
DTEND;TZID=America/Indiana/Indianapolis:20261024T120000
DTSTAMP:20260421T153045
CREATED:20260108T175210Z
LAST-MODIFIED:20260109T144249Z
UID:14267-1792843200-1792843200@westboggs.com
SUMMARY:Halloween Weekends at West Boggs Park (Oct 24th)
DESCRIPTION:Halloween Weekends at West Boggs Park\nGet spooky with pumpkin carving and painting\, a chili-brew fundraiser\, golf cart parade\, haunted trail\, outdoor movies\, and more. Family-friendly fun with just the right amount of fright — join us all three weekends! **Please note that 10/31 will NOT have the full schedule of activities. More info on this will be given as the events get closer. Thanks!
URL:https://westboggs.com/event/halloween-weekends-at-west-boggs-park-oct-24th/
LOCATION:West Boggs Park\, 16117 US-231\, Loogootee\, IN\, 47553\, United States
ATTACH;FMTTYPE=image/png:https://westboggs.com/wp-content/uploads/2026/01/11-e1767894599617.png
END:VEVENT
BEGIN:VEVENT
DTSTART;TZID=America/Indiana/Indianapolis:20261031T120000
DTEND;TZID=America/Indiana/Indianapolis:20261031T120000
DTSTAMP:20260421T153045
CREATED:20260108T175654Z
LAST-MODIFIED:20260109T144226Z
UID:14269-1793448000-1793448000@westboggs.com
SUMMARY:Halloween Weekends at West Boggs Park (Oct 31st)
DESCRIPTION:Halloween Weekends at West Boggs Park\nGet spooky with pumpkin carving and painting\, a chili-brew fundraiser\, golf cart parade\, haunted trail\, outdoor movies\, and more. Family-friendly fun with just the right amount of fright — join us all three weekends! **Please note that 10/31 will NOT have the full schedule of activities. More info on this will be given as the events get closer. Thanks!
URL:https://westboggs.com/event/halloween-weekends-at-west-boggs-park-oct-31st/
LOCATION:West Boggs Park\, 16117 US-231\, Loogootee\, IN\, 47553\, United States
ATTACH;FMTTYPE=image/png:https://westboggs.com/wp-content/uploads/2026/01/11-e1767894599617.png
END:VEVENT
END:VCALENDAR