BEGIN:VCALENDAR
VERSION:2.0
PRODID:-//West Boggs Park - ECPv6.15.13.1//NONSGML v1.0//EN
CALSCALE:GREGORIAN
METHOD:PUBLISH
X-WR-CALNAME:West Boggs Park
X-ORIGINAL-URL:https://westboggs.com
X-WR-CALDESC:Events for West Boggs Park
REFRESH-INTERVAL;VALUE=DURATION:PT1H
X-Robots-Tag:noindex
X-PUBLISHED-TTL:PT1H
BEGIN:VTIMEZONE
TZID:America/Indiana/Indianapolis
BEGIN:DAYLIGHT
TZOFFSETFROM:-0500
TZOFFSETTO:-0400
TZNAME:EDT
DTSTART:20250309T070000
END:DAYLIGHT
BEGIN:STANDARD
TZOFFSETFROM:-0400
TZOFFSETTO:-0500
TZNAME:EST
DTSTART:20251102T060000
END:STANDARD
BEGIN:DAYLIGHT
TZOFFSETFROM:-0500
TZOFFSETTO:-0400
TZNAME:EDT
DTSTART:20260308T070000
END:DAYLIGHT
BEGIN:STANDARD
TZOFFSETFROM:-0400
TZOFFSETTO:-0500
TZNAME:EST
DTSTART:20261101T060000
END:STANDARD
BEGIN:DAYLIGHT
TZOFFSETFROM:-0500
TZOFFSETTO:-0400
TZNAME:EDT
DTSTART:20270314T070000
END:DAYLIGHT
BEGIN:STANDARD
TZOFFSETFROM:-0400
TZOFFSETTO:-0500
TZNAME:EST
DTSTART:20271107T060000
END:STANDARD
END:VTIMEZONE
BEGIN:VEVENT
DTSTART;TZID=America/Indiana/Indianapolis:20261031T120000
DTEND;TZID=America/Indiana/Indianapolis:20261031T120000
DTSTAMP:20260421T185300
CREATED:20260108T175654Z
LAST-MODIFIED:20260109T144226Z
UID:14269-1793448000-1793448000@westboggs.com
SUMMARY:Halloween Weekends at West Boggs Park (Oct 31st)
DESCRIPTION:Halloween Weekends at West Boggs Park\nGet spooky with pumpkin carving and painting\, a chili-brew fundraiser\, golf cart parade\, haunted trail\, outdoor movies\, and more. Family-friendly fun with just the right amount of fright — join us all three weekends! **Please note that 10/31 will NOT have the full schedule of activities. More info on this will be given as the events get closer. Thanks!
URL:https://westboggs.com/event/halloween-weekends-at-west-boggs-park-oct-31st/
LOCATION:West Boggs Park\, 16117 US-231\, Loogootee\, IN\, 47553\, United States
ATTACH;FMTTYPE=image/png:https://westboggs.com/wp-content/uploads/2026/01/11-e1767894599617.png
END:VEVENT
END:VCALENDAR