BEGIN:VCALENDAR
VERSION:2.0
PRODID:-//West Boggs Park - ECPv6.15.13.1//NONSGML v1.0//EN
CALSCALE:GREGORIAN
METHOD:PUBLISH
X-WR-CALNAME:West Boggs Park
X-ORIGINAL-URL:https://westboggs.com
X-WR-CALDESC:Events for West Boggs Park
REFRESH-INTERVAL;VALUE=DURATION:PT1H
X-Robots-Tag:noindex
X-PUBLISHED-TTL:PT1H
BEGIN:VTIMEZONE
TZID:America/Indiana/Indianapolis
BEGIN:DAYLIGHT
TZOFFSETFROM:-0500
TZOFFSETTO:-0400
TZNAME:EDT
DTSTART:20250309T070000
END:DAYLIGHT
BEGIN:STANDARD
TZOFFSETFROM:-0400
TZOFFSETTO:-0500
TZNAME:EST
DTSTART:20251102T060000
END:STANDARD
BEGIN:DAYLIGHT
TZOFFSETFROM:-0500
TZOFFSETTO:-0400
TZNAME:EDT
DTSTART:20260308T070000
END:DAYLIGHT
BEGIN:STANDARD
TZOFFSETFROM:-0400
TZOFFSETTO:-0500
TZNAME:EST
DTSTART:20261101T060000
END:STANDARD
BEGIN:DAYLIGHT
TZOFFSETFROM:-0500
TZOFFSETTO:-0400
TZNAME:EDT
DTSTART:20270314T070000
END:DAYLIGHT
BEGIN:STANDARD
TZOFFSETFROM:-0400
TZOFFSETTO:-0500
TZNAME:EST
DTSTART:20271107T060000
END:STANDARD
END:VTIMEZONE
BEGIN:VEVENT
DTSTART;TZID=America/Indiana/Indianapolis:20260808T110000
DTEND;TZID=America/Indiana/Indianapolis:20260808T110000
DTSTAMP:20260422T065357
CREATED:20260108T170759Z
LAST-MODIFIED:20260109T144550Z
UID:14248-1786186800-1786186800@westboggs.com
SUMMARY:Hillbilly Heydays
DESCRIPTION:Hillbilly Heydays\nOur muddiest\, rowdiest tradition returns! Enjoy muddy field-day games\, friendly competition\, laughs\, and live music. Don’t wear your good shoes — this is one wild\, unforgettable West Boggs Park classic!
URL:https://westboggs.com/event/hillbilly-heydays-2026/
LOCATION:West Boggs Park\, 16117 US-231\, Loogootee\, IN\, 47553\, United States
ATTACH;FMTTYPE=image/png:https://westboggs.com/wp-content/uploads/2026/01/8-e1767892047800.png
END:VEVENT
END:VCALENDAR