BEGIN:VCALENDAR
VERSION:2.0
PRODID:-//West Boggs Park - ECPv6.15.13.1//NONSGML v1.0//EN
CALSCALE:GREGORIAN
METHOD:PUBLISH
X-WR-CALNAME:West Boggs Park
X-ORIGINAL-URL:https://westboggs.com
X-WR-CALDESC:Events for West Boggs Park
REFRESH-INTERVAL;VALUE=DURATION:PT1H
X-Robots-Tag:noindex
X-PUBLISHED-TTL:PT1H
BEGIN:VTIMEZONE
TZID:America/Indiana/Indianapolis
BEGIN:DAYLIGHT
TZOFFSETFROM:-0500
TZOFFSETTO:-0400
TZNAME:EDT
DTSTART:20250309T070000
END:DAYLIGHT
BEGIN:STANDARD
TZOFFSETFROM:-0400
TZOFFSETTO:-0500
TZNAME:EST
DTSTART:20251102T060000
END:STANDARD
BEGIN:DAYLIGHT
TZOFFSETFROM:-0500
TZOFFSETTO:-0400
TZNAME:EDT
DTSTART:20260308T070000
END:DAYLIGHT
BEGIN:STANDARD
TZOFFSETFROM:-0400
TZOFFSETTO:-0500
TZNAME:EST
DTSTART:20261101T060000
END:STANDARD
BEGIN:DAYLIGHT
TZOFFSETFROM:-0500
TZOFFSETTO:-0400
TZNAME:EDT
DTSTART:20270314T070000
END:DAYLIGHT
BEGIN:STANDARD
TZOFFSETFROM:-0400
TZOFFSETTO:-0500
TZNAME:EST
DTSTART:20271107T060000
END:STANDARD
END:VTIMEZONE
BEGIN:VEVENT
DTSTART;VALUE=DATE:20260828
DTEND;VALUE=DATE:20260830
DTSTAMP:20260422T065358
CREATED:20260108T171337Z
LAST-MODIFIED:20260109T144509Z
UID:14251-1787875200-1788047999@westboggs.com
SUMMARY:Kiwanis Club Hot Air Balloon Festival
DESCRIPTION:SCI Kiwanis Club Hot Air Balloon Festival\nA can’t-miss\, two-day festival featuring hot air balloons\, tethered rides\, pony rides\, train rides\, bounce houses\, kids crafts\, live music\, vendors\, and more. Fun for all ages and one of the most colorful weekends of the year!\nThis event is a fundraiser for Kiwanis Club of South Central Indiana. Kiwanis helps children thrive by supporting local schools\, funding scholarships\, providing winter coats and backpacks\, building playgrounds\, and more to give children a safer\, healthier\, and brighter future.\nAdvance tickets are available at the West Boggs Camplife Store.
URL:https://westboggs.com/event/kiwanis-club-hot-air-balloon-festival/
LOCATION:West Boggs Park\, 16117 US-231\, Loogootee\, IN\, 47553\, United States
ATTACH;FMTTYPE=image/png:https://westboggs.com/wp-content/uploads/2026/01/12-e1767892378358.png
END:VEVENT
END:VCALENDAR