BEGIN:VCALENDAR
VERSION:2.0
PRODID:-//West Boggs Park - ECPv6.15.13.1//NONSGML v1.0//EN
CALSCALE:GREGORIAN
METHOD:PUBLISH
X-WR-CALNAME:West Boggs Park
X-ORIGINAL-URL:https://westboggs.com
X-WR-CALDESC:Events for West Boggs Park
REFRESH-INTERVAL;VALUE=DURATION:PT1H
X-Robots-Tag:noindex
X-PUBLISHED-TTL:PT1H
BEGIN:VTIMEZONE
TZID:America/Indiana/Indianapolis
BEGIN:DAYLIGHT
TZOFFSETFROM:-0500
TZOFFSETTO:-0400
TZNAME:EDT
DTSTART:20240310T070000
END:DAYLIGHT
BEGIN:STANDARD
TZOFFSETFROM:-0400
TZOFFSETTO:-0500
TZNAME:EST
DTSTART:20241103T060000
END:STANDARD
BEGIN:DAYLIGHT
TZOFFSETFROM:-0500
TZOFFSETTO:-0400
TZNAME:EDT
DTSTART:20250309T070000
END:DAYLIGHT
BEGIN:STANDARD
TZOFFSETFROM:-0400
TZOFFSETTO:-0500
TZNAME:EST
DTSTART:20251102T060000
END:STANDARD
BEGIN:DAYLIGHT
TZOFFSETFROM:-0500
TZOFFSETTO:-0400
TZNAME:EDT
DTSTART:20260308T070000
END:DAYLIGHT
BEGIN:STANDARD
TZOFFSETFROM:-0400
TZOFFSETTO:-0500
TZNAME:EST
DTSTART:20261101T060000
END:STANDARD
END:VTIMEZONE
BEGIN:VEVENT
DTSTART;TZID=America/Indiana/Indianapolis:20250502T190000
DTEND;TZID=America/Indiana/Indianapolis:20250503T220000
DTSTAMP:20260422T190252
CREATED:20250407T162339Z
LAST-MODIFIED:20250407T172417Z
UID:13752-1746212400-1746309600@westboggs.com
SUMMARY:Battle of the Bands
DESCRIPTION:Battle of the Bands at West Boggs Park! \n Dates: May 2 & 3\, 2025\n Time: Event Friday May 2nd\, 7pm – 10:30pm\n Time: Event Saturday May 3rd 1:00pm – 10:00pm\n Location: West Boggs Park\nGet ready for an epic showdown of musical talent at the Battle of the Bands!\n From rock to country\, indie to metal\, the best local and regional bands will battle it out for ultimate bragging rights and big prizes!\n 2 Nights of Live Music\n Judged Performances & Fan Voting\n Food Trucks & Refreshments\n All ages welcome! Bring your friends\, grab a seat\, and rock out under the stars!\n Admission: Park entry fees will apply along with ticketing\n Sponsors Wanted! Contact West Boggs Park Programs Director to Sign Up 812-295-3421 option 3 or email activities@westboggs.com\n Who will take the crown? Don’t miss the music event of the season!
URL:https://westboggs.com/event/battle-of-the-bands/
LOCATION:West Boggs Park\, 16117 US-231\, Loogootee\, IN\, 47553\, United States
ATTACH;FMTTYPE=image/jpeg:https://westboggs.com/wp-content/uploads/2025/04/Battle-of-the-Bands-e1744054055142.jpg
END:VEVENT
END:VCALENDAR