BEGIN:VCALENDAR
VERSION:2.0
PRODID:-//West Boggs Park - ECPv6.15.13.1//NONSGML v1.0//EN
CALSCALE:GREGORIAN
METHOD:PUBLISH
X-ORIGINAL-URL:https://westboggs.com
X-WR-CALDESC:Events for West Boggs Park
REFRESH-INTERVAL;VALUE=DURATION:PT1H
X-Robots-Tag:noindex
X-PUBLISHED-TTL:PT1H
BEGIN:VTIMEZONE
TZID:America/Indiana/Indianapolis
BEGIN:DAYLIGHT
TZOFFSETFROM:-0500
TZOFFSETTO:-0400
TZNAME:EDT
DTSTART:20240310T070000
END:DAYLIGHT
BEGIN:STANDARD
TZOFFSETFROM:-0400
TZOFFSETTO:-0500
TZNAME:EST
DTSTART:20241103T060000
END:STANDARD
BEGIN:DAYLIGHT
TZOFFSETFROM:-0500
TZOFFSETTO:-0400
TZNAME:EDT
DTSTART:20250309T070000
END:DAYLIGHT
BEGIN:STANDARD
TZOFFSETFROM:-0400
TZOFFSETTO:-0500
TZNAME:EST
DTSTART:20251102T060000
END:STANDARD
BEGIN:DAYLIGHT
TZOFFSETFROM:-0500
TZOFFSETTO:-0400
TZNAME:EDT
DTSTART:20260308T070000
END:DAYLIGHT
BEGIN:STANDARD
TZOFFSETFROM:-0400
TZOFFSETTO:-0500
TZNAME:EST
DTSTART:20261101T060000
END:STANDARD
END:VTIMEZONE
BEGIN:VEVENT
DTSTART;TZID=America/Indiana/Indianapolis:20250906T180000
DTEND;TZID=America/Indiana/Indianapolis:20250906T220000
DTSTAMP:20260422T232602
CREATED:20250723T215017Z
LAST-MODIFIED:20250723T215017Z
UID:14149-1757181600-1757196000@westboggs.com
SUMMARY:Last Call Band Live at West Boggs Park
DESCRIPTION:🎸 The Last Call Band Live at West Boggs Park📅 Saturday\, September 6th\, 2025 | 🕕 6:00 PM – 10:00 PM📍 West Boggs Lakeside Stage \nGet ready to rock the lakeside! West Boggs Park presents a night of live local music featuring high-energy performance by The Old N Gold Band. From classic hits to dance-worthy jams\, this is your chance to celebrate the end of Summer with great tunes\, good vibes\, and local flavor. \n🎶 Live Music\nFood Trucks\n🎟️ Free with Park Admission \nGrab your lawn chairs\, bring your friends\, and don’t miss this lakeside party under the stars!
URL:https://westboggs.com/event/last-call-band/
LOCATION:West Boggs Park\, 16117 US-231\, Loogootee\, IN\, 47553\, United States
ATTACH;FMTTYPE=image/png:https://westboggs.com/wp-content/uploads/2025/07/Last-Call-Flyer-5-x-7-in-fixed-e1753307402876.png
END:VEVENT
END:VCALENDAR